BEGIN:VCALENDAR
VERSION:2.0
PRODID:-//Federatie van Agro-ecologische Boeren - ECPv6.15.16//NONSGML v1.0//EN
CALSCALE:GREGORIAN
METHOD:PUBLISH
X-WR-CALNAME:Federatie van Agro-ecologische Boeren
X-ORIGINAL-URL:https://www.federatieagroecologischeboeren.nl
X-WR-CALDESC:Evenementen voor Federatie van Agro-ecologische Boeren
REFRESH-INTERVAL;VALUE=DURATION:PT1H
X-Robots-Tag:noindex
X-PUBLISHED-TTL:PT1H
BEGIN:VTIMEZONE
TZID:Europe/Amsterdam
BEGIN:DAYLIGHT
TZOFFSETFROM:+0100
TZOFFSETTO:+0200
TZNAME:CEST
DTSTART:20240331T010000
END:DAYLIGHT
BEGIN:STANDARD
TZOFFSETFROM:+0200
TZOFFSETTO:+0100
TZNAME:CET
DTSTART:20241027T010000
END:STANDARD
BEGIN:DAYLIGHT
TZOFFSETFROM:+0100
TZOFFSETTO:+0200
TZNAME:CEST
DTSTART:20250330T010000
END:DAYLIGHT
BEGIN:STANDARD
TZOFFSETFROM:+0200
TZOFFSETTO:+0100
TZNAME:CET
DTSTART:20251026T010000
END:STANDARD
BEGIN:DAYLIGHT
TZOFFSETFROM:+0100
TZOFFSETTO:+0200
TZNAME:CEST
DTSTART:20260329T010000
END:DAYLIGHT
BEGIN:STANDARD
TZOFFSETFROM:+0200
TZOFFSETTO:+0100
TZNAME:CET
DTSTART:20261025T010000
END:STANDARD
END:VTIMEZONE
BEGIN:VEVENT
DTSTART;TZID=Europe/Amsterdam:20250906T160000
DTEND;TZID=Europe/Amsterdam:20250906T190000
DTSTAMP:20260424T152638
CREATED:20250902T100432Z
LAST-MODIFIED:20250902T100537Z
UID:10000044-1757174400-1757185200@www.federatieagroecologischeboeren.nl
SUMMARY:Boerenvuur: Agroecologie en schaal: Hoe groot is ideaal?
DESCRIPTION:Op de sjiekste tuinderij van het land\, met 25 jaar ervaring in agro-ecologische idealen hebben we een gesprek over schaal: hoe groot en hoe klein is fijn? Voor elke opgave in de landbouw zijn wel machines te koop. Welke neem je wel of niet? Welke schaal is optimaal? Is “alles met de hand doen” bizar veel werk of juist voldoenend? Hoeveel hectare hebben we nodig om zelfvoorzienend te zijn in voeding voor de bodem? \nWe krijgen soep van de Ommuurde tuin\, neem wat lekkers te eten of te drinken mee voor bij de soep dat makkelijk is om te delen. Servies is aanwezig\, fijn als je helpt met afwassen achteraf. \nAanmelden graag\, via info@toekomstboeren.nl\, spontaan aanwaaien mag ook.
URL:https://www.federatieagroecologischeboeren.nl/activiteit/boerenvuur-agroecologie-en-schaal-hoe-groot-is-ideaal/
LOCATION:De Ommuurde Tuin\, Kortenburg 16\, Wageningen
CATEGORIES:Toekomstboeren
ORGANIZER;CN="Toekomstboeren":MAILTO:info@toekomstboeren.nl
END:VEVENT
END:VCALENDAR