BEGIN:VCALENDAR
VERSION:2.0
PRODID:-//Federatie van Agro-ecologische Boeren - ECPv6.15.16//NONSGML v1.0//EN
CALSCALE:GREGORIAN
METHOD:PUBLISH
X-WR-CALNAME:Federatie van Agro-ecologische Boeren
X-ORIGINAL-URL:https://www.federatieagroecologischeboeren.nl
X-WR-CALDESC:Evenementen voor Federatie van Agro-ecologische Boeren
REFRESH-INTERVAL;VALUE=DURATION:PT1H
X-Robots-Tag:noindex
X-PUBLISHED-TTL:PT1H
BEGIN:VTIMEZONE
TZID:Europe/Amsterdam
BEGIN:DAYLIGHT
TZOFFSETFROM:+0100
TZOFFSETTO:+0200
TZNAME:CEST
DTSTART:20250330T010000
END:DAYLIGHT
BEGIN:STANDARD
TZOFFSETFROM:+0200
TZOFFSETTO:+0100
TZNAME:CET
DTSTART:20251026T010000
END:STANDARD
BEGIN:DAYLIGHT
TZOFFSETFROM:+0100
TZOFFSETTO:+0200
TZNAME:CEST
DTSTART:20260329T010000
END:DAYLIGHT
BEGIN:STANDARD
TZOFFSETFROM:+0200
TZOFFSETTO:+0100
TZNAME:CET
DTSTART:20261025T010000
END:STANDARD
BEGIN:DAYLIGHT
TZOFFSETFROM:+0100
TZOFFSETTO:+0200
TZNAME:CEST
DTSTART:20270328T010000
END:DAYLIGHT
BEGIN:STANDARD
TZOFFSETFROM:+0200
TZOFFSETTO:+0100
TZNAME:CET
DTSTART:20271031T010000
END:STANDARD
END:VTIMEZONE
BEGIN:VEVENT
DTSTART;TZID=Europe/Amsterdam:20260420T080000
DTEND;TZID=Europe/Amsterdam:20260420T170000
DTSTAMP:20260420T123403
CREATED:20260420T083805Z
LAST-MODIFIED:20260420T084058Z
UID:10000084-1776672000-1776704400@www.federatieagroecologischeboeren.nl
SUMMARY:Webinar series: Omgevingswet\, hefboom voor toekomstbestendig voedselsysteem?
DESCRIPTION:Hoe kunnen ruimtelijke regels bijdragen aan een toekomstbestendig voedselsysteem? \nOp 22 april start een nieuwe Webinarreeks waarin we precies die vraag centraal stellen. \nDe transitie naar een toekomstbestendig voedselsysteem vraagt om landbouw die bijdraagt aan herstel van bodem\, biodiversiteit\, landschap\, gemeenschap en het verdienvermogen van de boer. Maar in de praktijk lopen we nog te vaak vast in ruimtelijke regels. \nWat kun je verwachten?\n– Praktijkcases\n– Reflecties van (juridische) experts in ruimtelijke ordening\n– Concrete inzichten in hoe de Omgevingswet en het bijbehorende beleidsproces kansen kunnen bieden \nWerk jij ook aan dit vraagstuk? We zijn op zoek naar kennispartners en praktijkvragen om samen zichtbaarheid te geven aan ruimtelijke regels die de transitie naar een toekomstbestendig voedselsysteem versnellen! \nMeld je vóór 21 april bij mij aan voor het eerste webinar op 22 april! –> amanda.krijgsman@wur.nl
URL:https://www.federatieagroecologischeboeren.nl/activiteit/webinar-series-omgevingswet-hefboom-voor-toekomstbestendig-voedselsysteem/
ATTACH;FMTTYPE=image/jpeg:https://www.federatieagroecologischeboeren.nl/wp-content/uploads/2026/04/2019-09-14-11.43.18-scaled.jpg
END:VEVENT
END:VCALENDAR