BEGIN:VCALENDAR
VERSION:2.0
PRODID:-//Federatie van Agro-ecologische Boeren - ECPv6.15.16//NONSGML v1.0//EN
CALSCALE:GREGORIAN
METHOD:PUBLISH
X-WR-CALNAME:Federatie van Agro-ecologische Boeren
X-ORIGINAL-URL:https://www.federatieagroecologischeboeren.nl
X-WR-CALDESC:Evenementen voor Federatie van Agro-ecologische Boeren
REFRESH-INTERVAL;VALUE=DURATION:PT1H
X-Robots-Tag:noindex
X-PUBLISHED-TTL:PT1H
BEGIN:VTIMEZONE
TZID:Europe/Amsterdam
BEGIN:DAYLIGHT
TZOFFSETFROM:+0100
TZOFFSETTO:+0200
TZNAME:CEST
DTSTART:20240331T010000
END:DAYLIGHT
BEGIN:STANDARD
TZOFFSETFROM:+0200
TZOFFSETTO:+0100
TZNAME:CET
DTSTART:20241027T010000
END:STANDARD
BEGIN:DAYLIGHT
TZOFFSETFROM:+0100
TZOFFSETTO:+0200
TZNAME:CEST
DTSTART:20250330T010000
END:DAYLIGHT
BEGIN:STANDARD
TZOFFSETFROM:+0200
TZOFFSETTO:+0100
TZNAME:CET
DTSTART:20251026T010000
END:STANDARD
BEGIN:DAYLIGHT
TZOFFSETFROM:+0100
TZOFFSETTO:+0200
TZNAME:CEST
DTSTART:20260329T010000
END:DAYLIGHT
BEGIN:STANDARD
TZOFFSETFROM:+0200
TZOFFSETTO:+0100
TZNAME:CET
DTSTART:20261025T010000
END:STANDARD
END:VTIMEZONE
BEGIN:VEVENT
DTSTART;TZID=Europe/Amsterdam:20250530T140000
DTEND;TZID=Europe/Amsterdam:20250531T235900
DTSTAMP:20260420T163017
CREATED:20250225T121857Z
LAST-MODIFIED:20250521T144013Z
UID:2082-1748613600-1748735940@www.federatieagroecologischeboeren.nl
SUMMARY:Festival Rooting Deeper
DESCRIPTION:Op 30 en 31 mei 2025 landt de eerste editie van het Rooting Deeper festival in Ede. Dit unieke agro-ecologie-feest brengt kunstenaars\, verhalenvertellers\, muzikanten\, boeren\, koks\, studenten\, activisten en maatschappelijke organisaties samen. Jij bent welkom! \nEten en voedselculturen staan centraal. Wie produceert ons eten en hoe? Waar komen de granen in ons brood vandaan? Welke rol speelt cultuur in wat we eten\, en hoe verbindt dit ons met onze geschiedenis\, onze gemeenschap\, onze leefomgeving en toekomstige generaties? Hoe vieren we samen de kracht van goed en eerlijk voedsel? \nOp 30 mei kun je op (fiets)excursie naar boerderijen in de buurt\, zie hier. \nOp 31 mei barst om 14 uur het festival los op het terrein van Proeftuin Ede. \nEen greep uit het workshopprogramma met bijdragen van de Federatie en haar lidorganisaties: \n\nAlles over bokashi \nmet Esther Kuiler\, Federatie van Agro-ecologische Boeren\nAgroecologie\, land en de commons\nmet Eliane Bakker\, Ida Simonsen en Chip van Toekomstboeren\nDe politiek van zaden en agroecologie\nmet Ida Simonsen van Toekomstboeren en Sterre van Reclaim the Seeds\nBiocyclische vegan landbouw\nmet Arjan Smits van de Federatie van Agro-ecologische Boeren\nDieper wortelen in je gebied\nmet Jan Hassink\, Eduardo Caceres en Janneke Bruil van het Agroecologie Netwerk en het Stroomgebied Zuid-Veluwe\nGrowing food in peat-free soils\nWith Holly Bartley of Re-PEAT and Edu Hernandez of Toekomstboeren\n\n\n\n\nDe rest van het programma vind je hier. \n  \n 
URL:https://www.federatieagroecologischeboeren.nl/activiteit/festival-rooting-deeper/
LOCATION:Proeftuin Ede\, Verbindelaarsweg 51a\, Ede
CATEGORIES:Agroecologie Netwerk
ORGANIZER;CN="Agroecologie Netwerk":MAILTO:info@agroecologie.nl
END:VEVENT
END:VCALENDAR